BEGIN:VCALENDAR
VERSION:2.0
PRODID:-//Timber Wolf Golf Club - ECPv6.15.20//NONSGML v1.0//EN
CALSCALE:GREGORIAN
METHOD:PUBLISH
X-WR-CALNAME:Timber Wolf Golf Club
X-ORIGINAL-URL:https://timberwolfgolfclub.net
X-WR-CALDESC:Events for Timber Wolf Golf Club
REFRESH-INTERVAL;VALUE=DURATION:PT1H
X-Robots-Tag:noindex
X-PUBLISHED-TTL:PT1H
BEGIN:VTIMEZONE
TZID:America/Toronto
BEGIN:DAYLIGHT
TZOFFSETFROM:-0500
TZOFFSETTO:-0400
TZNAME:EDT
DTSTART:20250309T070000
END:DAYLIGHT
BEGIN:STANDARD
TZOFFSETFROM:-0400
TZOFFSETTO:-0500
TZNAME:EST
DTSTART:20251102T060000
END:STANDARD
BEGIN:DAYLIGHT
TZOFFSETFROM:-0500
TZOFFSETTO:-0400
TZNAME:EDT
DTSTART:20260308T070000
END:DAYLIGHT
BEGIN:STANDARD
TZOFFSETFROM:-0400
TZOFFSETTO:-0500
TZNAME:EST
DTSTART:20261101T060000
END:STANDARD
BEGIN:DAYLIGHT
TZOFFSETFROM:-0500
TZOFFSETTO:-0400
TZNAME:EDT
DTSTART:20270314T070000
END:DAYLIGHT
BEGIN:STANDARD
TZOFFSETFROM:-0400
TZOFFSETTO:-0500
TZNAME:EST
DTSTART:20271107T060000
END:STANDARD
END:VTIMEZONE
BEGIN:VEVENT
DTSTART;VALUE=DATE:20260422
DTEND;VALUE=DATE:20260423
DTSTAMP:20260422T054855
CREATED:20260420T173356Z
LAST-MODIFIED:20260420T173356Z
UID:10498-1776816000-1776902399@timberwolfgolfclub.net
SUMMARY:Opening Day!
DESCRIPTION:Book your Tee Time Now!\nOpening Day is set for April 22nd\, and we are excited to welcome you back to Timber Wolf for the start of a new season!\n\n\n\n\n\n\n\n\n\n\nThe course is shaping up well and we look forward to seeing you out on the fairways. Early-season conditions can vary\, and weather may still impact course playability or opening timelines. We recommend checking conditions ahead of your round and planning accordingly. \n\n\n\n\n\n\n\n\n\n\nSecure your tee time now and be among the first to kick off the season. \nBook your round today. \nWe look forward to seeing you on Opening Day!
URL:https://timberwolfgolfclub.net/event/opening-day/
END:VEVENT
END:VCALENDAR